Workbook

Sheet صورت وضعیت
A19: صندوق سرمایه گذاری سهامی اهرمی بیدار
A20: صورت وضعیت پرتفوی
A21: برای ماه منتهی به 1405/05/31

Sheet سهام
A1: صندوق سرمایه گذاری سهامی اهرمی بیدار
A2: صورت وضعیت پرتفوی
A3: برای ماه منتهی به 1405/05/31
A4: -1 | B4: سرمایه گذاری ها
A5: -1-1 | C5: سرمایه گذاری در سهام و حق تقدم سهام
F6: 1405/04/31 | L6: تغییرات طی دوره | T6: 1405/05/31
L7: خرید طی دوره | P7: فروش طی دوره
A8: نام شرکت | E8: تعداد | H8: بهای تمام شده | J8: خالص ارزش فروش | L8: تعداد | N8: بهای تمام شده | P8: تعداد | R8: مبلغ فروش | T8: تعداد | V8: قیمت بازار هر سهم | X8: بهای تمام شده | Z8: خالص ارزش فروش | AB8: درصد به کل دارایی ها
A9: آریان کیمیا تک | E9: 70000000 | H9: 597950662396 | J9: 1048134801000 | L9: 0 | N9: 0 | P9: 0 | R9: 0 | T9: 70000000 | V9: 16970 | X9: 597950662396 | Z9: 1178717533000 | AB9: 0.86
A10: ایمن خودرو شرق | E10: 70000000 | H10: 248293115239 | J10: 284086901000 | L10: 0 | N10: 0 | P10: 0 | R10: 0 | T10: 70000000 | V10: 4920 | X10: 248293115239 | Z10: 341737788000 | AB10: 0.25
A11: بانک‌اقتصادنوین‌ | E11: 1226646009 | H11: 1519668006271 | J11: 3.3898018e+12 | L11: 400000000 | N11: 1339487181176 | P11: -800000 | R11: 2620527048 | T11: 1625846009 | V11: 3390 | X11: 2858164082927 | Z11: 5.4690132e+12 | AB11: 3.99
A12: بهار رز عالیس چناران | E12: 200000000 | H12: 999677236457 | J12: 881135760000 | L12: 0 | N12: 0 | P12: 0 | R12: 0 | T12: 200000000 | V12: 5500 | X12: 999677236457 | Z12: 1091497000000 | AB12: 0.8
A13: بورس کالای ایران | E13: 620000000 | H13: 3434413678956 | J13: 5069308976000 | L13: 0 | N13: 0 | P13: 0 | R13: 0 | T13: 620000000 | V13: 9220 | X13: 3434413678956 | Z13: 5672212228000 | AB13: 4.14
A14: بیمه البرز | E14: 276000000 | H14: 457107041772 | J14: 487482405600 | L14: 0 | N14: 0 | P14: 0 | R14: 0 | T14: 276000000 | V14: 2085 | X14: 457107041772 | Z14: 571011694200 | AB14: 0.42
A15: پارس‌ مینو | E15: 1102000000 | H15: 920095906635 | J15: 1975921142780 | L15: 0 | N15: 0 | P15: 0 | R15: 0 | T15: 1102000000 | V15: 1765 | X15: 920095906635 | Z15: 1929994918100 | AB15: 1.41
A16: پالایش نفت اصفهان | E16: 300000000 | H16: 1222486332855 | J16: 2804155020000 | L16: 0 | N16: 0 | P16: 0 | R16: 0 | T16: 300000000 | V16: 11300 | X16: 1222486332855 | Z16: 3363795300000 | AB16: 2.45
A17: پالایش نفت تهران | E17: 1700000000 | H17: 7981035228259 | J17: 8029448840000 | L17: 0 | N17: 0 | P17: 0 | R17: 0 | T17: 1700000000 | V17: 5470 | X17: 7981035228259 | Z17: 9227118730000 | AB17: 6.73
A18: پاکدیس | E18: 35484098 | H18: 170368601694 | J18: 3.8082926e+11 | L18: 0 | N18: 0 | P18: -35484070 | R18: 461650566437 | T18: 28 | V18: 12400 | X18: 134442 | Z18: 344516.14 | AB18: 0
A19: پتروشیمی‌شیراز | E19: 30000000 | H19: 1999079992658 | J19: 1828059021000 | L19: 0 | N19: 0 | P19: 0 | R19: 0 | T19: 30000000 | V19: 61270 | X19: 1999079992658 | Z19: 1823891487000 | AB19: 1.33
A20: پخش البرز | E20: 243700000 | H20: 2307420155041 | J20: 3078320213270 | L20: 6300000 | N20: 79471129661 | P20: 0 | R20: 0 | T20: 250000000 | V20: 12730 | X20: 2386891284702 | Z20: 3157899275000 | AB20: 2.3
... A82: سرمایه گذاری آرمان گستر پاریز | E82: 0 | H82: 0 | J82: 0 | L82: 13082730 | N82: 81580193731 | P82: 0 | R82: 0 | T82: 13082730 | V82: 10090 | X82: 81580193731 | Z82: 1.3098435e+11 | AB82: 0.1
A83: جمع | F83: =SUM(E9:F82) -> 11954529516 | H83: =SUM(H9:H82) -> 78178525607840 | J83: =SUM(J9:J82) -> 101006567501851 | L83: =SUM(L9:L82) -> 2390258833 | N83: =SUM(N9:N82) -> 19209678214500 | P83: =SUM(P9:P82) -> -1504502061 | R83: =SUM(R9:R82) -> 12149291986934 | T83: =SUM(T9:T82) -> 12840286288 | X83: =SUM(X9:X82) -> 88275390320654 | Z83: =SUM(Z9:Z82) -> 1.3010376e+14 | AB83: =SUM(AB9:AB82) -> 94.84

Sheet اوراق مشتقه
A1: صندوق سرمایه گذاری سهامی اهرمی بیدار
A2: صورت وضعیت پرتفوی
A3: برای ماه منتهی به 1405/05/31
A5: اطلاعات آماری مرتبط با اوراق اختیار فروش تبعی خریداری شده توسط صندوق سرمایه گذاری:
I6: 1405/04/31 | AC6: 1405/05/31
A8: نام سهام | I8: تعداد اوراق تبعی | M8: قیمت اعمال | Q8: تاریخ اعمال | W8: نرخ سود موثر | AC8: تعداد اوراق تبعی | AI8: قیمت اعمال | AM8: تاریخ اعمال | AQ8: نرخ سود موثر
A9: اطلاعات آماری مرتبط با موقعیت های اخذ شده در اوراق اختیار معامله توسط صندوق سرمایه گذاری:
C10: 1405/04/31 | Y10: 1405/05/31
A11: نام سهام | C11: نوع اختیار | E11: نوع موقعیت | G11: استراتژی ماخوذه | K11: تعداد اوراق | O11: قیمت اعمال | S11: تاریخ اعمال | Y11: نوع اختیار | AE11: نوع موقعیت | AK11: استراتژی ماخوذه | AO11: تعداد اوراق | AS11: قیمت اعمال | AV11: تاریخ اعمال
A12: اطلاعات آماری مرتبط با قراردادهای آتی توسط صندوق سرمایه گذاری:
C13: 1405/04/31 | O13: 1405/05/31
A14: نام سهام | C14: نوع موقعیت | E14: تعداد اوراق | G14: قیمت اعمال | K14: تاریخ اعمال | O14: نوع موقعیت | U14: تعداد اوراق | AA14: قیمت اعمال | AG14: تاریخ اعمال

Sheet واحدهای صندوق
A1: صندوق سرمایه گذاری سهامی اهرمی بیدار
A2: صورت وضعیت پرتفوی
A3: برای ماه منتهی به 1405/05/31
A5: -2-1 | B5: سرمایه‌گذاری در واحدهای صندوق های سرمایه گذاری
E6: 1405/04/31 | K6: تغییرات طی دوره | S6: 1405/05/31
K7: خرید/صدور طی دوره | O7: فروش/ابطال طی دوره
A8: صندوق | D8: تعداد واحد | G8: بهای تمام شده | I8: خالص ارزش فروش | K8: تعداد | M8: بهای تمام شده | O8: تعداد | Q8: مبلغ فروش | S8: تعداد | U8: قیمت ابطال / بازار هر واحد | W8: بهای تمام شده | Y8: خالص ارزش فروش | AA8: درصد به کل دارایی ها

Sheet اوراق
A1: صندوق سرمایه گذاری سهامی اهرمی بیدار
A2: صورت وضعیت پرتفوی
A3: برای ماه منتهی به 1405/05/31
A5: -3-1 | B5: سرمایه‌گذاری در اوراق بهادار با درآمد ثابت یا علی‌الحساب
A6: اطلاعات اوراق با درآمد ثابت | P6: 1405/04/31 | V6: تغییرات طی دوره | AD6: 1405/05/31
V7: خرید طی دوره | Z7: فروش طی دوره
A8: نام اوراق | D8: دارای مجوز از سازمان | F8: پذیرفته شده در بورس یا فرابورس | H8: تاریخ انتشار اوراق | J8: تاریخ سررسید | L8: نرخ سود اسمی | N8: نرخ سود موثر | P8: تعداد | R8: بهای تمام شده | T8: خالص ارزش فروش | V8: تعداد | X8: بهای تمام شده | Z8: تعداد | AB8: مبلغ فروش | AD8: تعداد | AF8: قیمت بازار هر سهم | AH8: بهای تمام شده | AJ8: خالص ارزش فروش | AL8: درصد به کل دارایی ها

Sheet تعدیل قیمت
A1: صندوق سرمایه گذاری سهامی اهرمی بیدار
A2: صورت وضعیت پرتفوی
A3: برای ماه منتهی به 1405/05/31
A4: اوراق بهاداری که ارزش آنها در تاریخ گزارش تعدیل شده
A5: (بر اساس دستورالعمل نحوه تعیین قیمت خرید و فروش اوراق بهادار در صندوق های سرمایه گذاری)
C7: 1405/05/31
A8: نام اوراق بهادار | C8: تعداد | E8: قیمت پایانی | G8: قیمت تعدیل شده | I8: درصد تعدیل | K8: خالص ارزش فروش تعدیل شده | M8: دلیل تعدیل
A9: مبین انرژی خلیج فارس | C9: 50000000 | E9: 13260 | G9: 6630 | I9: -0.5 | K9: 331500000000 | M9: به دستور سازمان بورس و اوراق بهادار به جهت اثرات جنگ تحمیلی
A10: جمع | C10: =SUM(C9) -> 50000000 | K10: =SUM(K9) -> 331500000000

Sheet سپرده
A1: صندوق سرمایه گذاری سهامی اهرمی بیدار
A2: صورت وضعیت پرتفوی
A3: برای ماه منتهی به 1405/05/31
A5: -4-1 | B5: سرمایه‌گذاری در سپرده‌ بانکی
D6: 1405/04/31 | F6: تغییرات طی دوره | J6: 1405/05/31
A7: سپرده های بانکی | D7: مبلغ | F7: افزایش | H7: کاهش | J7: مبلغ | L7: درصد به کل دارایی ها
A8: موسسه اعتباری ملل | D8: 13665561 | F8: 58031 | H8: 0 | J8: 13723592 | L8: 0
A9: بانک تجارت | D9: 5849743 | F9: 24841 | H9: 0 | J9: 5874584 | L9: 0
A10: بانک خاورمیانه | D10: 351721625 | F10: 15457995028469 | H10: 15455519329766 | J10: 2827420328 | L10: 0
A11: بانک سامان | D11: 42412776 | F11: 180046 | H11: 0 | J11: 42592822 | L11: 0 | M11: 0
A12: بانک گردشگری | D12: 562190343 | F12: 12867721561841 | H12: 12868006285000 | J12: 277467184 | L12: 0
A13: بانک صادرات | D13: 623149318 | F13: 3905482294908 | H13: 3905502220000 | J13: 603224226 | L13: 0
A14: بانک دی | D14: 304265534 | F14: 1286623 | H14: 1050000 | J14: 304502157 | L14: 0
A15: بانک صادرات | D15: 3832000000000 | F15: 4136000000000 | H15: 4215000000000 | J15: 3753000000000 | L15: 0.0273
A16: جمع | D16: =SUM(D8:D15) -> 3833903254900 | F16: =SUM(F8:F15) -> 36367200434759 | H16: =SUM(H8:H15) -> 36444028884766 | J16: =SUM(J8:J15) -> 3757074804893 | L16: =SUM(L8:L15) -> 0.0273

Sheet درآمد
A1: صندوق سرمایه گذاری سهامی اهرمی بیدار
A2: صورت وضعیت درآمدها
A3: برای ماه منتهی به 1405/05/31
A5: -2 | B5: درآمد حاصل از سرمایه گذاری ها
A7: شرح | D7: یادداشت | F7: مبلغ | H7: درصد از کل درآمدها | J7: درصد از کل دارایی ها
A8: درآمد حاصل از سرمایه گذاری در سهام و حق تقدم سهام | D8: 1-2 | F8: ='درآمد سرمایه گذاری در سهام'!U147+'درآمد اعمال اختیار'!Y11 -> 52621401817376 | H8: 96.79 | J8: 16.64
A9: درآمد حاصل از سرمایه گذاری در سپرده بانکی و گواهی سپرده | D9: 2-2 | F9: ='درآمد سپرده بانکی'!H15 -> 481949836560 | H9: 0.43 | J9: 0.07
A10: سایر درآمدها | D10: 3-2 | F10: ='سایر درآمدها'!F11 -> 170441910488 | H10: 0.72 | J10: 0.12
A11: جمع | F11: =SUM(F8:F10) -> 53273793564424 | H11: =SUM(H8:H10) -> 97.94 | J11: =SUM(J8:J10) -> 16.83

Sheet درآمد سرمایه گذاری در سهام
A1: صندوق سرمایه گذاری سهامی اهرمی بیدار
A2: صورت وضعیت درآمدها
A3: برای ماه منتهی به 1405/05/31
A5: -1-2 | B5: درآمد حاصل از سرمایه­گذاری در سهام و حق تقدم سهام
D6: طی ماه | N6: از ابتدای سال مالی
J7: جمع | U7: جمع
A8: سهام | D8: درآمد سود سهام | F8: درآمد تغییر ارزش | H8: درآمد فروش | J8: مبلغ | L8: درصد از کل درآمدها | N8: درآمد سود سهام | P8: درآمد تغییر ارزش | S8: درآمد فروش | U8: مبلغ | W8: درصد از کل درآمدها
A9: قندهکمتان‌ | D9: 0 | F9: 0 | H9: 108397565257 | J9: 108397565257 | L9: 0.46 | N9: 17585468160 | P9: 0 | S9: 110211469328 | U9: =N9+P9+S9 -> 127796937488 | W9: 0.24
A10: پویا زرکان آق دره | D10: 0 | F10: 126450868703 | H10: 1376912448906 | J10: 1503363317609 | L10: 6.37 | N10: 0 | P10: 1278603451519 | S10: 1400775514696 | U10: =N10+P10+S10 -> 2679378966215 | W10: 4.98
A11: پاکدیس | D11: 0 | F11: -92162916843 | H11: 172984566940 | J11: 80821650097 | L11: 0.34 | N11: 73660000000 | P11: 116723 | S11: 227009043493 | U11: =N11+P11+S11 -> 300669160216 | W11: 0.55
A12: فولاد مبارکه اصفهان | D12: 36929411765 | F12: 0 | H12: -259172199570 | J12: -222242787805 | L12: -0.94 | N12: 42570000000 | P12: 0 | S12: -245381338470 | U12: =N12+P12+S12 -> -202811338470 | W12: -0.42
A13: تولیدی برنا باطری | D13: 0 | F13: 64775385601 | H13: -15181730422 | J13: 49593655179 | L13: 0.21 | N13: 20400000000 | P13: -19230192599 | S13: -14009476501 | U13: =N13+P13+S13 -> -12839669100 | W13: -0.03
A14: کشتیرانی جمهوری اسلامی ایران | D14: 0 | F14: 92900668331 | H14: 69275874958 | J14: 162176543289 | L14: 0.69 | N14: 0 | P14: 18969180389 | S14: 76232297917 | U14: =N14+P14+S14 -> 95201478306 | W14: 0.17
A15: توسعه سرمایه و صنعت غدیر | D15: 0 | F15: 0 | H15: 16867931515 | J15: 16867931515 | L15: 0.07 | N15: 83620000000 | P15: 0 | S15: -19091560415 | U15: =N15+P15+S15 -> 64528439585 | W15: 0.11
A16: سرمایه‌گذاری‌ ملی‌ایران‌ | D16: 0 | F16: 0 | H16: 159398847086 | J16: 159398847086 | L16: 0.68 | N16: 0 | P16: 0 | S16: 173170978690 | U16: =N16+P16+S16 -> 173170978690 | W16: 0.3
A17: سرمایه‌گذاری‌ سپه‌ | D17: 0 | F17: 0 | H17: 26274219587 | J17: 26274219587 | L17: 0.11 | N17: 0 | P17: 0 | S17: 30049107780 | U17: =N17+P17+S17 -> 30049107780 | W17: 0.05
A18: داروپخش‌ (هلدینگ‌ | D18: 87960070464 | F18: -178943507881 | H18: 333660971348 | J18: 242677533931 | L18: 1.03 | N18: 102600000000 | P18: 565097227298 | S18: 394903721374 | U18: =N18+P18+S18 -> 1062600948672 | W18: 1.95
A19: سرمایه گذاری خوارزمی | D19: 0 | F19: 0 | H19: 30735338999 | J19: 30735338999 | L19: 0.13 | N19: 0 | P19: 0 | S19: 173808798894 | U19: =N19+P19+S19 -> 173808798894 | W19: 0.32
A20: سرمایه گذاری توسعه صنایع سیمان | D20: 0 | F20: 76821219571 | H20: 44818800 | J20: 76866038371 | L20: 0.33 | N20: 0 | P20: 77795755843 | S20: 375238036266 | U20: =N20+P20+S20 -> 453033792109 | W20: 0.8
... A146: کارخانجات تولیدی نیروترانسفو | D146: 0 | F146: 309498853455 | H146: 0 | J146: 309498853455 | L146: 1.31 | N146: 0 | P146: 408456035387 | S146: 0 | U146: =N146+P146+S146 -> 408456035387 | W146: 0.77
A147: جمع | D147: =SUM(D9:D146) -> 1165154494761 | F147: =SUM(F9:F146) -> 18964099860680 | H147: =SUM(H9:H146) -> 2695917966805 | J147: =SUM(J9:J146) -> 22825172322246 | L147: =SUM(L9:L146) -> 96.8 | N147: =SUM(N9:N146) -> 5566931402359 | Q147: =SUM(P9:Q146) -> 35553552638537 | S147: =SUM(S9:S146) -> 11511562745089 | U147: =SUM(U9:U146) -> 52632046785985 | W147: =SUM(W9:W146) -> 96.97

Sheet درآمد سپرده بانکی
A1: صندوق سرمایه گذاری سهامی اهرمی بیدار
A2: صورت وضعیت درآمدها
A3: برای ماه منتهی به 1405/05/31
A5: -4-2 | B5: درآمد حاصل از سرمایه­گذاری در سپرده بانکی و گواهی سپرده
D6: طی ماه | H6: از ابتدای سال مالی
A7: نام سپرده بانکی | D7: سود سپرده بانکی و گواهی سپرده | F7: درصد سود به میانگین سپرده | H7: سود سپرده بانکی و گواهی سپرده | J7: درصد سود به میانگین سپرده
A8: موسسه اعتباری ملل | D8: 58031 | F8: =D8/سپرده!$J$16 -> 1.5445793e-08 | H8: 448605 | J8: =H8/سپرده!$J$16 -> 1.1940273e-07
A9: بانک تجارت | D9: 24841 | F9: =D9/سپرده!$J$16 -> 6.6117928e-09 | H9: 223019 | J9: =H9/سپرده!$J$16 -> 5.9359744e-08
A10: بانک خاورمیانه | D10: 1427345 | F10: =D10/سپرده!$J$16 -> 3.7990859e-07 | H10: 5998309 | J10: =H10/سپرده!$J$16 -> 1.596537e-06
A11: بانک سامان | D11: 180046 | F11: =D11/سپرده!$J$16 -> 4.7921857e-08 | H11: 314714 | J11: =H11/سپرده!$J$16 -> 8.37657e-08
A12: بانک گردشگری | D12: 84253287859 | F12: =D12/سپرده!$J$16 -> 0.022425236 | H12: 122501181757 | J12: =H12/سپرده!$J$16 -> 0.032605468
A13: بانک دی | D13: 1286623 | F13: =D13/سپرده!$J$16 -> 3.4245339e-07 | H13: 11225176 | J13: =H13/سپرده!$J$16 -> 2.9877435e-06
A14: بانک صادرات | D14: 18092138435 | F14: =D14/سپرده!$J$16 -> 0.0048154853 | H14: 359430444980 | J14: =H14/سپرده!$J$16 -> 0.095667631
A15: جمع | D15: =SUM(D8:D14) -> 102348403180 | F15: =SUM(F8:F14) -> 0.027241513 | H15: =SUM(H8:H14) -> 481949836560 | J15: =SUM(J8:J14) -> 0.12827795

Sheet سایر درآمدها
A1: صندوق سرمایه گذاری سهامی اهرمی بیدار
A2: صورت وضعیت درآمدها
A3: برای ماه منتهی به 1405/05/31
A5: -5-2 | B5: سایر درآمدها
D6: طی ماه | F6: 1405/05/31
A7: سایر درآمدها | D7: مبلغ | F7: مبلغ
A8: سایر درآمدها | D8: 0 | F8: 23595756719
A9: سایر درآمدهای تنزیل سود بانک | D9: 0 | F9: 35235146
A10: تعدیل کارمزد کارگزار | D10: 33395407062 | F10: 146810918623
A11: جمع | D11: =SUM(D8:D10) -> 33395407062 | F11: =SUM(F8:F10) -> 170441910488

Sheet درآمد سود سهام
A1: صندوق سرمایه گذاری سهامی اهرمی بیدار
A2: صورت وضعیت درآمدها
A3: برای ماه منتهی به 1405/05/31
A5: درآمد سود سهام
A6: نام سهام | C6: اطلاعات مجمع | I6: طی ماه | O6: از ابتدای سال مالی
C7: تاریخ تشکیل مجمع | E7: تعداد سهام متعلقه در زمان مجمع | G7: سود متعلق به هر سهم | I7: جمع درآمد سود سهام | K7: هزینه تنزیل | M7: خالص درآمد سود سهام | O7: جمع درآمد سود سهام | Q7: هزینه تنزیل | S7: خالص درآمد سود سهام
A8: نفت‌ بهران‌ | C8: 1405/05/05 | E8: 20000000 | G8: 3000 | I8: 60000000000 | K8: 0 | M8: 60000000000 | O8: 60000000000 | Q8: 0 | S8: 60000000000
A9: بانک‌ کارآفرین‌ | C9: 1405/05/25 | E9: 100000000 | G9: 18 | I9: 1800000000 | K9: 0 | M9: 1800000000 | O9: 1800000000 | Q9: 0 | S9: 1800000000
A10: بانک‌اقتصادنوین‌ | C10: 1405/04/30 | E10: 1000800000 | G10: 126 | I10: 0 | K10: 0 | M10: 0 | O10: 126100800000 | Q10: 0 | S10: 126100800000
A11: سرمایه‌گذاری‌غدیر(هلدینگ‌ | C11: 1404/12/10 | E11: 350000000 | G11: 1500 | I11: 0 | K11: 0 | M11: 0 | O11: 525000000000 | Q11: 0 | S11: 525000000000
A12: صنایع‌خاک‌چینی‌ایران‌ | C12: 1405/04/10 | E12: 35000000 | G12: 2600 | I12: 0 | K12: 0 | M12: 0 | O12: 91000000000 | Q12: 3992796333 | S12: 87007203667
A13: ملی‌ صنایع‌ مس‌ ایران‌ | C13: 1405/04/31 | E13: 251428574 | G13: 450 | I13: 113142858300 | K13: 14345864808 | M13: 98796993492 | O13: 113142858300 | Q13: 14345864808 | S13: 98796993492
A14: نیروترانس‌ | C14: 1405/04/27 | E14: 200000000 | G14: 85 | I14: 0 | K14: 0 | M14: 0 | O14: 17000000000 | Q14: 2119904077 | S14: 14880095923
A15: سالمین‌ | C15: 1405/04/27 | E15: 60000000 | G15: 350 | I15: 0 | K15: 0 | M15: 0 | O15: 21000000000 | Q15: 2618705036 | S15: 18381294964
A16: پتروشیمی‌شیراز | C16: 1405/03/27 | E16: 17527584 | G16: 6928 | I16: 0 | K16: 0 | M16: 0 | O16: 121431101952 | Q16: 3474076769 | S16: 117957025183
A17: داروپخش‌ (هلدینگ‌ | C17: 1405/05/31 | E17: 30000000 | G17: 3420 | I17: 102600000000 | K17: 14639929536 | M17: 87960070464 | O17: 102600000000 | Q17: 14639929536 | S17: 87960070464
A18: سیمان‌ارومیه‌ | C18: 1405/03/20 | E18: 2100000 | G18: 28874 | I18: 0 | K18: 0 | M18: 0 | O18: 60635400000 | Q18: 0 | S18: 60635400000
A19: پشم‌شیشه‌ایران‌ | C19: 1405/04/24 | E19: 59855745 | G19: 1000 | I19: 0 | K19: 0 | M19: 0 | O19: 59855745000 | Q19: 7369626261 | S19: 52486118739
... A71: رهیاب پیام گستران | C71: 1405/04/31 | E71: 585000 | G71: 414 | I71: 0 | K71: 0 | M71: 0 | O71: 242190000 | Q71: 30708301 | S71: 211481699
A72: جمع | I72: =SUM(I8:I71) -> 1315449042300 | K72: =SUM(K8:K71) -> 150294547539 | M72: =SUM(M8:M71) -> 1165154494761 | O72: =SUM(O8:O71) -> 5566931402359 | Q72: =SUM(Q8:Q71) -> 331090886261 | S72: =SUM(S8:S71) -> 5235840516098

Sheet سود سپرده بانکی
A1: صندوق سرمایه گذاری سهامی اهرمی بیدار
A2: صورت وضعیت درآمدها
A3: برای ماه منتهی به 1405/05/31
A5: سود سپرده بانکی
A6: شرح | C6: طی ماه | I6: از ابتدای سال مالی
C7: درآمد سود | E7: هزینه تنزیل | G7: خالص درآمد | I7: درآمد سود | K7: هزینه تنزیل | M7: خالص درآمد
A8: موسسه اعتباری ملل | C8: 58031 | E8: 0 | G8: 58031 | I8: 448605 | K8: 0 | M8: 448605
A9: بانک تجارت | C9: 24841 | E9: 0 | G9: 24841 | I9: 223019 | K9: 0 | M9: 223019
A10: بانک خاورمیانه | C10: 1427345 | E10: 0 | G10: 1427345 | I10: 5998309 | K10: 0 | M10: 5998309
A11: بانک سامان | C11: 180046 | E11: 0 | G11: 180046 | I11: 314714 | K11: 0 | M11: 314714
A12: بانک دی | C12: 1286623 | E12: 0 | G12: 1286623 | I12: 11225176 | K12: 0 | M12: 11225176
A13: بانک گردشگری | C13: 84253287859 | E13: 363219132 | G13: 83890068727 | I13: 122501181757 | K13: 772361606 | M13: 121728820151
A14: بانک صادرات | C14: 18092138435 | E14: -333176842 | G14: 18425315277 | I14: 359430444980 | K14: 185288689 | M14: 359245156291 | N14: 0
A15: جمع | C15: =SUM(C8:C14) -> 102348403180 | E15: =SUM(E8:E14) -> 30042290 | G15: =SUM(G8:G14) -> 102318360890 | I15: =SUM(I8:I14) -> 481949836560 | K15: =SUM(K8:K14) -> 957650295 | M15: =SUM(M8:M14) -> 480992186265

Sheet درآمد ناشی از فروش
A1: صندوق سرمایه گذاری سهامی اهرمی بیدار
A2: صورت وضعیت درآمدها
A3: برای ماه منتهی به 1405/05/31
A5: سود(زیان) حاصل از فروش اوراق بهادار
A6: شرح | C6: طی ماه | K6: از ابتدای سال مالی
C7: تعداد | E7: خالص بهای فروش | G7: ارزش دفتری | I7: سود و زیان ناشی از فروش | K7: تعداد | M7: خالص بهای فروش | O7: ارزش دفتری | Q7: سود و زیان ناشی از فروش
A8: قندهکمتان‌ | C8: 28977294 | E8: 269446257102 | G8: 161048691845 | I8: 108397565257 | K8: 29500000 | M8: 272001184192 | O8: 163880605172 | Q8: 108120579020
A9: پویا زرکان آق دره | C9: 15000000 | E9: 3063211757610 | G9: 1686299308704 | I9: 1376912448906 | K9: 15000000 | M9: 3063211757610 | O9: 1686299308704 | Q9: 1376912448906
A10: پاکدیس | C10: 35484070 | E10: 461650566437 | G10: 288665999497 | I10: 172984566940 | K10: 39884070 | M10: 663533853494 | O10: 441693878657 | Q10: 221839974837
A11: فولاد مبارکه اصفهان | C11: 774000000 | E11: 1770279138900 | G11: 2029451338470 | I11: -259172199570 | K11: 774000000 | M11: 1770279138900 | O11: 2029451338470 | Q11: -259172199570
A12: تولیدی برنا باطری | C12: 22500000 | E12: 150477746079 | G12: 165659476501 | I12: -15181730422 | K12: 22500000 | M12: 150477746079 | O12: 165659476501 | Q12: -15181730422
A13: کشتیرانی جمهوری اسلامی ایران | C13: 108994801 | E13: 892969498651 | G13: 823693623693 | I13: 69275874958 | K13: 108994801 | M13: 892969498651 | O13: 823693623693 | Q13: 69275874958
A14: توسعه سرمایه و صنعت غدیر | C14: 15000000 | E14: 263966315302 | G14: 247098383787 | I14: 16867931515 | K14: 37100000 | M14: 587893274065 | O14: 611561138715 | Q14: -23667864650
A15: سرمایه‌گذاری‌ ملی‌ایران‌ | C15: 305000000 | E15: 1768728091986 | G15: 1609329244900 | I15: 159398847086 | K15: 305000000 | M15: 1768728091986 | O15: 1609329244900 | Q15: 159398847086
A16: سرمایه‌گذاری‌ سپه‌ | C16: 88244000 | E16: 484567974097 | G16: 458293754510 | I16: 26274219587 | K16: 88244000 | M16: 484567974097 | O16: 458293754510 | Q16: 26274219587
A17: داروپخش‌ (هلدینگ‌ | C17: 15000000 | E17: 797100943700 | G17: 463439972352 | I17: 333660971348 | K17: 29240794 | M17: 1207532763452 | O17: 821812838706 | Q17: 385719924746
A18: سرمایه گذاری خوارزمی | C18: 10586666 | E18: 65550145904 | G18: 34814806905 | I18: 30735338999 | K18: 110586666 | M18: 551640574381 | O18: 382129173417 | Q18: 169511400964
A19: سرمایه گذاری توسعه صنایع سیمان | C19: 11770 | E19: 488182957 | G19: 443364157 | I19: 44818800 | K19: 77748754 | M19: 3332486490819 | O19: 2983198956874 | Q19: 349287533945
... A111: سرمایه گذاری سیمان تامین | C111: 0 | E111: 0 | G111: 0 | I111: 0 | K111: 800000 | M111: 23180419576 | O111: 18523214599 | Q111: 4657204977
A112: جمع | C112: =SUM(C8:C111) -> 1504502061 | E112: =SUM(E8:E111) -> 12149291986934 | G112: =SUM(G8:G111) -> 9453374020129 | I112: =SUM(I8:I111) -> 2695917966805 | K112: =SUM(K8:K111) -> 16029916899 | M112: =SUM(M8:M111) -> 87485739548730 | O112: =SUM(O8:O111) -> 76620637136708 | Q112: =SUM(Q8:R111) -> 10865102412022

Sheet درآمد اعمال اختیار
A1: صندوق سرمایه گذاری سهامی اهرمی بیدار
A2: صورت وضعیت درآمدها
A3: برای ماه منتهی به 1405/05/31
A5: سود (زیان) ناشی از اعمال اختیار معامله سهام
E7: طی ماه | Y7: از ابتدای سال مالی
A8: نام سهم | C8: نام اختیار | E8: تاریخ اعمال | G8: تعداد | I8: قیمت اعمال | K8: ارزش اعمال | M8: ارزش دفتری اختیار | O8: بهای تمام شده سهم | Q8: کارمزد اعمال | S8: مالیات اعمال | U8: کارمزد فروش اختیار | W8: سود(زیان)اعمال | Y8: سود(زیان)اعمال
A9: شستا1 | C9: اختیار خ شستا 1500 - 1405/03/13 | E9: 1405/0313 | G9: 0 | I9: 0 | K9: 0 | M9: 0 | O9: 0 | Q9: 0 | S9: 0 | U9: 0 | W9: 0 | Y9: -6103654877
A10: شستا1 | C10: اختیار خ شستا 1500 - 1405/03/13 | E10: 1405/03/13 | G10: 0 | I10: 0 | K10: 0 | M10: 0 | O10: 0 | Q10: 0 | S10: 0 | U10: 0 | W10: 0 | Y10: -4541313732
A11: جمع | K11: 0 | M11: 0 | O11: 0 | Q11: 0 | S11: 0 | U11: 0 | W11: 0 | Y11: =SUM(Y9:Y10) -> -10644968609

Sheet درآمد ناشی از تغییر قیمت اوراق
A1: صندوق سرمایه گذاری سهامی اهرمی بیدار
A2: صورت وضعیت درآمدها
A3: برای ماه منتهی به 1405/05/31
A5: درآمد ناشی از تغییر قیمت اوراق بهادار
A6: شرح | C6: طی ماه | K6: از ابتدای سال مالی
C7: تعداد | E7: خالص ارزش فروش | G7: ارزش دفتری | I7: سود و زیان ناشی از تغییر قیمت | K7: تعداد | M7: خالص ارزش فروش | O7: ارزش دفتری | Q7: سود و زیان ناشی از تغییر قیمت
A8: نشاسته و گلوکز آردینه | C8: 40000000 | E8: 1291935540000 | G8: 1184378745815 | I8: 107556794184 | K8: 40000000 | M8: 1291935540000 | O8: 902362183491 | Q8: 389573356509
A9: کشت و دام قیام اصفهان | C9: 69000000 | E9: 811329565500 | G9: 556633701900 | I9: 254695863600 | K9: 69000000 | M9: 811329565500 | O9: 668753231238 | Q9: 142576334262
A10: گسترش سوخت سبززاگرس(سهامی عام) | C10: 209000000 | E10: 276236060760 | G10: 190793675600 | I10: 85442385160 | K10: 209000000 | M10: 276236060760 | O10: 255290233330 | Q10: 20945827429
A11: پالایش نفت تهران | C11: 1700000000 | E11: 9227118730000 | G11: 8029448840000 | I11: 1197669889999 | K11: 1700000000 | M11: 9227118730000 | O11: 8054175213541 | Q11: 1172943516458
A12: مدیریت نیروگاهی ایرانیان مپنا | C12: 30000000 | E12: 1134462291000 | G12: 820111155000 | I12: 314351136000 | K12: 30000000 | M12: 1134462291000 | O12: 559707558577 | Q12: 574754732423
A13: سیمان‌مازندران‌ | C13: 35000000 | E13: 2682155423500 | G13: 2566647620010 | I13: 115507803489 | K13: 35000000 | M13: 2682155423500 | O13: 2566647620010 | Q13: 115507803489
A14: صنایع پتروشیمی کرمانشاه | C14: 50000000 | E14: 1153513875000 | G14: 1000704295000 | I14: 152809579999 | K14: 50000000 | M14: 1153513875000 | O14: 974305166272 | Q14: 179208708727
A15: بین المللی توسعه ص. معادن غدیر | C15: 196461725 | E15: 933777333396 | G15: 921730413008 | I15: 12046920388 | K15: 196461725 | M15: 933777333396 | O15: 921730413008 | Q15: 12046920388
A16: بانک‌ کارآفرین‌ | C16: 100000000 | E16: 463390090000 | G16: 396052277505 | I16: 67337812495 | K16: 100000000 | M16: 463390090000 | O16: 396052277505 | Q16: 67337812495
A17: پارس‌ مینو | C17: 1102000000 | E17: 1929994918100 | G17: 1975921142780 | I17: -45926224680 | K17: 1102000000 | M17: 1929994918100 | O17: 1156129751060 | Q17: 773865167040
A18: بهار رز عالیس چناران | C18: 200000000 | E18: 1091497000000 | G18: 881135760000 | I18: 210361239999 | K18: 200000000 | M18: 1091497000000 | O18: 999677236457 | Q18: 91819763542
A19: سبحان دارو | C19: 57552497 | E19: 705850136209 | G19: 418598826732 | I19: 287251309477 | K19: 57552497 | M19: 705850136209 | O19: 377619206051 | Q19: 328230930158
... A75: بورس کالای ایران | C75: 620000000 | E75: 5672212228000 | G75: 5069308976000 | I75: 602903251999 | K75: 620000000 | M75: 5672212228000 | O75: 3925323752584 | Q75: 1746888475416
A76: جمع | C76: =SUM(C8:C75) -> 12840286288 | E76: =SUM(E8:E75) -> 130103762241481 | G76: =SUM(G8:G75) -> 111139662380780 | I76: =SUM(I8:I75) -> 18964099860680 | K76: =SUM(K8:K75) -> 12840286288 | M76: =SUM(M8:M75) -> 130103762241481 | O76: =SUM(O8:O75) -> 94550209602930 | Q76: =SUM(Q8:R75) -> 35553552638537
